BEGIN:VCALENDAR
VERSION:2.0
PRODID:-// - ECPv6.15.20//NONSGML v1.0//EN
CALSCALE:GREGORIAN
METHOD:PUBLISH
X-ORIGINAL-URL:https://rumpelhausen.de
X-WR-CALDESC:Veranstaltungen für 
REFRESH-INTERVAL;VALUE=DURATION:PT1H
X-Robots-Tag:noindex
X-PUBLISHED-TTL:PT1H
BEGIN:VTIMEZONE
TZID:Europe/Berlin
BEGIN:DAYLIGHT
TZOFFSETFROM:+0100
TZOFFSETTO:+0200
TZNAME:CEST
DTSTART:20160327T010000
END:DAYLIGHT
BEGIN:STANDARD
TZOFFSETFROM:+0200
TZOFFSETTO:+0100
TZNAME:CET
DTSTART:20161030T010000
END:STANDARD
BEGIN:DAYLIGHT
TZOFFSETFROM:+0100
TZOFFSETTO:+0200
TZNAME:CEST
DTSTART:20170326T010000
END:DAYLIGHT
BEGIN:STANDARD
TZOFFSETFROM:+0200
TZOFFSETTO:+0100
TZNAME:CET
DTSTART:20171029T010000
END:STANDARD
BEGIN:DAYLIGHT
TZOFFSETFROM:+0100
TZOFFSETTO:+0200
TZNAME:CEST
DTSTART:20180325T010000
END:DAYLIGHT
BEGIN:STANDARD
TZOFFSETFROM:+0200
TZOFFSETTO:+0100
TZNAME:CET
DTSTART:20181028T010000
END:STANDARD
END:VTIMEZONE
BEGIN:VEVENT
DTSTART;VALUE=DATE:20170304
DTEND;VALUE=DATE:20170305
DTSTAMP:20260423T043627
CREATED:20170216T125112Z
LAST-MODIFIED:20170216T125112Z
UID:446-1488585600-1488671999@rumpelhausen.de
SUMMARY:Vereinssamstag
DESCRIPTION:Ein Tag zum gemeinsamen Treffen\, Arbeiten und Grillen auf Rumpelhausen
URL:https://rumpelhausen.de/event/vereinssamstag-12/
END:VEVENT
BEGIN:VEVENT
DTSTART;TZID=Europe/Berlin:20170305T140000
DTEND;TZID=Europe/Berlin:20170305T190000
DTSTAMP:20260423T043627
CREATED:20170228T205906Z
LAST-MODIFIED:20170228T205906Z
UID:470-1488722400-1488740400@rumpelhausen.de
SUMMARY:Geburtstag
DESCRIPTION:
URL:https://rumpelhausen.de/event/geburtstag-2/
END:VEVENT
BEGIN:VEVENT
DTSTART;TZID=Europe/Berlin:20170310T140000
DTEND;TZID=Europe/Berlin:20170310T170000
DTSTAMP:20260423T043627
CREATED:20170228T173543Z
LAST-MODIFIED:20170228T173543Z
UID:468-1489154400-1489165200@rumpelhausen.de
SUMMARY:Veranstaltung
DESCRIPTION:Kindergeburtstag
URL:https://rumpelhausen.de/event/veranstaltung/
END:VEVENT
BEGIN:VEVENT
DTSTART;TZID=Europe/Berlin:20170311T140000
DTEND;TZID=Europe/Berlin:20170311T180000
DTSTAMP:20260423T043627
CREATED:20170216T125451Z
LAST-MODIFIED:20170216T125451Z
UID:459-1489240800-1489255200@rumpelhausen.de
SUMMARY:belegt
DESCRIPTION:Kindergeburtstag
URL:https://rumpelhausen.de/event/belegt-11/
END:VEVENT
BEGIN:VEVENT
DTSTART;TZID=Europe/Berlin:20170326T140000
DTEND;TZID=Europe/Berlin:20170326T180000
DTSTAMP:20260423T043627
CREATED:20170218T184707Z
LAST-MODIFIED:20170218T184707Z
UID:464-1490536800-1490551200@rumpelhausen.de
SUMMARY:Belegt
DESCRIPTION:Kindergeburtstag
URL:https://rumpelhausen.de/event/belegt-12/
END:VEVENT
END:VCALENDAR