BEGIN:VCALENDAR
VERSION:2.0
PRODID:-// - ECPv6.15.20//NONSGML v1.0//EN
CALSCALE:GREGORIAN
METHOD:PUBLISH
X-ORIGINAL-URL:https://rumpelhausen.de
X-WR-CALDESC:Veranstaltungen für 
REFRESH-INTERVAL;VALUE=DURATION:PT1H
X-Robots-Tag:noindex
X-PUBLISHED-TTL:PT1H
BEGIN:VTIMEZONE
TZID:Europe/Berlin
BEGIN:DAYLIGHT
TZOFFSETFROM:+0100
TZOFFSETTO:+0200
TZNAME:CEST
DTSTART:20150329T010000
END:DAYLIGHT
BEGIN:STANDARD
TZOFFSETFROM:+0200
TZOFFSETTO:+0100
TZNAME:CET
DTSTART:20151025T010000
END:STANDARD
BEGIN:DAYLIGHT
TZOFFSETFROM:+0100
TZOFFSETTO:+0200
TZNAME:CEST
DTSTART:20160327T010000
END:DAYLIGHT
BEGIN:STANDARD
TZOFFSETFROM:+0200
TZOFFSETTO:+0100
TZNAME:CET
DTSTART:20161030T010000
END:STANDARD
BEGIN:DAYLIGHT
TZOFFSETFROM:+0100
TZOFFSETTO:+0200
TZNAME:CEST
DTSTART:20170326T010000
END:DAYLIGHT
BEGIN:STANDARD
TZOFFSETFROM:+0200
TZOFFSETTO:+0100
TZNAME:CET
DTSTART:20171029T010000
END:STANDARD
END:VTIMEZONE
BEGIN:VEVENT
DTSTART;TZID=Europe/Berlin:20161106T080000
DTEND;TZID=Europe/Berlin:20161106T170000
DTSTAMP:20260423T121130
CREATED:20161004T183838Z
LAST-MODIFIED:20161004T183838Z
UID:402-1478419200-1478451600@rumpelhausen.de
SUMMARY:belegt (Geburtstag)
DESCRIPTION:
URL:https://rumpelhausen.de/event/belegt-geburtstag-37/
END:VEVENT
BEGIN:VEVENT
DTSTART;TZID=Europe/Berlin:20161118T080000
DTEND;TZID=Europe/Berlin:20161118T170000
DTSTAMP:20260423T121130
CREATED:20160922T185017Z
LAST-MODIFIED:20160922T185017Z
UID:400-1479456000-1479488400@rumpelhausen.de
SUMMARY:belegt (Verein / Vorlesetag)
DESCRIPTION:
URL:https://rumpelhausen.de/event/belegt-verein-vorlesetag/
END:VEVENT
END:VCALENDAR