BEGIN:VCALENDAR
VERSION:2.0
PRODID:-// - ECPv6.15.20//NONSGML v1.0//EN
CALSCALE:GREGORIAN
METHOD:PUBLISH
X-ORIGINAL-URL:https://rumpelhausen.de
X-WR-CALDESC:Veranstaltungen für 
REFRESH-INTERVAL;VALUE=DURATION:PT1H
X-Robots-Tag:noindex
X-PUBLISHED-TTL:PT1H
BEGIN:VTIMEZONE
TZID:Europe/Berlin
BEGIN:DAYLIGHT
TZOFFSETFROM:+0100
TZOFFSETTO:+0200
TZNAME:CEST
DTSTART:20150329T010000
END:DAYLIGHT
BEGIN:STANDARD
TZOFFSETFROM:+0200
TZOFFSETTO:+0100
TZNAME:CET
DTSTART:20151025T010000
END:STANDARD
BEGIN:DAYLIGHT
TZOFFSETFROM:+0100
TZOFFSETTO:+0200
TZNAME:CEST
DTSTART:20160327T010000
END:DAYLIGHT
BEGIN:STANDARD
TZOFFSETFROM:+0200
TZOFFSETTO:+0100
TZNAME:CET
DTSTART:20161030T010000
END:STANDARD
BEGIN:DAYLIGHT
TZOFFSETFROM:+0100
TZOFFSETTO:+0200
TZNAME:CEST
DTSTART:20170326T010000
END:DAYLIGHT
BEGIN:STANDARD
TZOFFSETFROM:+0200
TZOFFSETTO:+0100
TZNAME:CET
DTSTART:20171029T010000
END:STANDARD
END:VTIMEZONE
BEGIN:VEVENT
DTSTART;TZID=Europe/Berlin:20160604T080000
DTEND;TZID=Europe/Berlin:20160604T170000
DTSTAMP:20260423T203350
CREATED:20160428T063403Z
LAST-MODIFIED:20160428T063403Z
UID:336-1465027200-1465059600@rumpelhausen.de
SUMMARY:belegt (Geburtstag)
DESCRIPTION:
URL:https://rumpelhausen.de/event/belegt-geburtstag-25/
END:VEVENT
BEGIN:VEVENT
DTSTART;TZID=Europe/Berlin:20160605T080000
DTEND;TZID=Europe/Berlin:20160605T170000
DTSTAMP:20260423T203350
CREATED:20160201T115224Z
LAST-MODIFIED:20160201T115224Z
UID:303-1465113600-1465146000@rumpelhausen.de
SUMMARY:belegt (Fest)
DESCRIPTION:
URL:https://rumpelhausen.de/event/belegt-fest/
END:VEVENT
BEGIN:VEVENT
DTSTART;TZID=Europe/Berlin:20160608T163000
DTEND;TZID=Europe/Berlin:20160608T190000
DTSTAMP:20260423T203350
CREATED:20160602T185210Z
LAST-MODIFIED:20160602T185210Z
UID:360-1465403400-1465412400@rumpelhausen.de
SUMMARY:belegt (nach 16h30)
DESCRIPTION:
URL:https://rumpelhausen.de/event/belegt-nach-16h30/
END:VEVENT
BEGIN:VEVENT
DTSTART;TZID=Europe/Berlin:20160611T080000
DTEND;TZID=Europe/Berlin:20160611T170000
DTSTAMP:20260423T203350
CREATED:20160425T075337Z
LAST-MODIFIED:20160425T075337Z
UID:328-1465632000-1465664400@rumpelhausen.de
SUMMARY:belegt (Geburtstag)
DESCRIPTION:
URL:https://rumpelhausen.de/event/belegt-geburtstag-21/
END:VEVENT
BEGIN:VEVENT
DTSTART;TZID=Europe/Berlin:20160612T080000
DTEND;TZID=Europe/Berlin:20160612T170000
DTSTAMP:20260423T203350
CREATED:20160425T193239Z
LAST-MODIFIED:20160425T193239Z
UID:330-1465718400-1465750800@rumpelhausen.de
SUMMARY:belegt (Geburtstag)
DESCRIPTION:
URL:https://rumpelhausen.de/event/belegt-geburtstag-22/
END:VEVENT
BEGIN:VEVENT
DTSTART;TZID=Europe/Berlin:20160613T153000
DTEND;TZID=Europe/Berlin:20160613T200000
DTSTAMP:20260423T203350
CREATED:20160425T075609Z
LAST-MODIFIED:20160425T075609Z
UID:329-1465831800-1465848000@rumpelhausen.de
SUMMARY:belegt / Geburtstag (nach 15h30)
DESCRIPTION:
URL:https://rumpelhausen.de/event/belegt-geburtstag-nach-15h30/
END:VEVENT
BEGIN:VEVENT
DTSTART;TZID=Europe/Berlin:20160618T080000
DTEND;TZID=Europe/Berlin:20160618T170000
DTSTAMP:20260423T203350
CREATED:20160201T115335Z
LAST-MODIFIED:20160201T115335Z
UID:304-1466236800-1466269200@rumpelhausen.de
SUMMARY:belegt (Fest)
DESCRIPTION:
URL:https://rumpelhausen.de/event/belegt-fest-2/
END:VEVENT
BEGIN:VEVENT
DTSTART;TZID=Europe/Berlin:20160619T080000
DTEND;TZID=Europe/Berlin:20160619T170000
DTSTAMP:20260423T203350
CREATED:20160428T063725Z
LAST-MODIFIED:20160428T063725Z
UID:338-1466323200-1466355600@rumpelhausen.de
SUMMARY:belegt (Geburtstag)
DESCRIPTION:
URL:https://rumpelhausen.de/event/belegt-geburtstag-27/
END:VEVENT
BEGIN:VEVENT
DTSTART;TZID=Europe/Berlin:20160625T080000
DTEND;TZID=Europe/Berlin:20160625T170000
DTSTAMP:20260423T203350
CREATED:20160225T080412Z
LAST-MODIFIED:20160602T185010Z
UID:313-1466841600-1466874000@rumpelhausen.de
SUMMARY:belegt (Vereinssamstag)
DESCRIPTION:
URL:https://rumpelhausen.de/event/belegt-sommerfest-2/
END:VEVENT
BEGIN:VEVENT
DTSTART;TZID=Europe/Berlin:20160626T080000
DTEND;TZID=Europe/Berlin:20160626T170000
DTSTAMP:20260423T203350
CREATED:20160411T102146Z
LAST-MODIFIED:20160411T102146Z
UID:325-1466928000-1466960400@rumpelhausen.de
SUMMARY:belegt (Geburtstag)
DESCRIPTION:
URL:https://rumpelhausen.de/event/belegt-geburtstag-19/
END:VEVENT
END:VCALENDAR