BEGIN:VCALENDAR
VERSION:2.0
PRODID:-// - ECPv6.15.20//NONSGML v1.0//EN
CALSCALE:GREGORIAN
METHOD:PUBLISH
X-ORIGINAL-URL:https://rumpelhausen.de
X-WR-CALDESC:Veranstaltungen für 
REFRESH-INTERVAL;VALUE=DURATION:PT1H
X-Robots-Tag:noindex
X-PUBLISHED-TTL:PT1H
BEGIN:VTIMEZONE
TZID:Europe/Berlin
BEGIN:DAYLIGHT
TZOFFSETFROM:+0100
TZOFFSETTO:+0200
TZNAME:CEST
DTSTART:20140330T010000
END:DAYLIGHT
BEGIN:STANDARD
TZOFFSETFROM:+0200
TZOFFSETTO:+0100
TZNAME:CET
DTSTART:20141026T010000
END:STANDARD
BEGIN:DAYLIGHT
TZOFFSETFROM:+0100
TZOFFSETTO:+0200
TZNAME:CEST
DTSTART:20150329T010000
END:DAYLIGHT
BEGIN:STANDARD
TZOFFSETFROM:+0200
TZOFFSETTO:+0100
TZNAME:CET
DTSTART:20151025T010000
END:STANDARD
BEGIN:DAYLIGHT
TZOFFSETFROM:+0100
TZOFFSETTO:+0200
TZNAME:CEST
DTSTART:20160327T010000
END:DAYLIGHT
BEGIN:STANDARD
TZOFFSETFROM:+0200
TZOFFSETTO:+0100
TZNAME:CET
DTSTART:20161030T010000
END:STANDARD
END:VTIMEZONE
BEGIN:VEVENT
DTSTART;TZID=Europe/Berlin:20151101T080000
DTEND;TZID=Europe/Berlin:20151101T170000
DTSTAMP:20260424T104604
CREATED:20151005T102444Z
LAST-MODIFIED:20151005T102444Z
UID:270-1446364800-1446397200@rumpelhausen.de
SUMMARY:belegt (Geburtstag)
DESCRIPTION:
URL:https://rumpelhausen.de/event/belegt-geburtstag-8/
END:VEVENT
BEGIN:VEVENT
DTSTART;TZID=Europe/Berlin:20151128T080000
DTEND;TZID=Europe/Berlin:20151128T170000
DTSTAMP:20260424T104604
CREATED:20150920T192940Z
LAST-MODIFIED:20150920T193059Z
UID:253-1448697600-1448730000@rumpelhausen.de
SUMMARY:Vereinssamstag
DESCRIPTION:
URL:https://rumpelhausen.de/event/vereinssamstag/
END:VEVENT
END:VCALENDAR