BEGIN:VCALENDAR
VERSION:2.0
PRODID:-// - ECPv6.15.20//NONSGML v1.0//EN
CALSCALE:GREGORIAN
METHOD:PUBLISH
X-ORIGINAL-URL:https://rumpelhausen.de
X-WR-CALDESC:Veranstaltungen für 
REFRESH-INTERVAL;VALUE=DURATION:PT1H
X-Robots-Tag:noindex
X-PUBLISHED-TTL:PT1H
BEGIN:VTIMEZONE
TZID:Europe/Berlin
BEGIN:DAYLIGHT
TZOFFSETFROM:+0100
TZOFFSETTO:+0200
TZNAME:CEST
DTSTART:20140330T010000
END:DAYLIGHT
BEGIN:STANDARD
TZOFFSETFROM:+0200
TZOFFSETTO:+0100
TZNAME:CET
DTSTART:20141026T010000
END:STANDARD
BEGIN:DAYLIGHT
TZOFFSETFROM:+0100
TZOFFSETTO:+0200
TZNAME:CEST
DTSTART:20150329T010000
END:DAYLIGHT
BEGIN:STANDARD
TZOFFSETFROM:+0200
TZOFFSETTO:+0100
TZNAME:CET
DTSTART:20151025T010000
END:STANDARD
BEGIN:DAYLIGHT
TZOFFSETFROM:+0100
TZOFFSETTO:+0200
TZNAME:CEST
DTSTART:20160327T010000
END:DAYLIGHT
BEGIN:STANDARD
TZOFFSETFROM:+0200
TZOFFSETTO:+0100
TZNAME:CET
DTSTART:20161030T010000
END:STANDARD
END:VTIMEZONE
BEGIN:VEVENT
DTSTART;TZID=Europe/Berlin:20151003T080000
DTEND;TZID=Europe/Berlin:20151003T170000
DTSTAMP:20260424T122520
CREATED:20150920T192247Z
LAST-MODIFIED:20150920T192538Z
UID:250-1443859200-1443891600@rumpelhausen.de
SUMMARY:belegt (Geburtstag)
DESCRIPTION:
URL:https://rumpelhausen.de/event/belegt-geburtstag-5/
END:VEVENT
BEGIN:VEVENT
DTSTART;TZID=Europe/Berlin:20151004T080000
DTEND;TZID=Europe/Berlin:20151004T170000
DTSTAMP:20260424T122520
CREATED:20150920T191828Z
LAST-MODIFIED:20150920T191828Z
UID:246-1443945600-1443978000@rumpelhausen.de
SUMMARY:belegt (Geburtstag)
DESCRIPTION:
URL:https://rumpelhausen.de/event/belegt-geburtstag-2/
END:VEVENT
BEGIN:VEVENT
DTSTART;TZID=Europe/Berlin:20151010T093000
DTEND;TZID=Europe/Berlin:20151010T170000
DTSTAMP:20260424T122520
CREATED:20150924T061305Z
LAST-MODIFIED:20150924T061305Z
UID:257-1444469400-1444496400@rumpelhausen.de
SUMMARY:Gemeinsamer Arbeitstag
DESCRIPTION:Wir wollen mit euch den Platz vom Laub befreien\,\nGebautes instandsetzen\, das Tor hinten erneuern\nund natürlich gemeinsam Grillen und Chillen!
URL:https://rumpelhausen.de/event/gemeinsamer-arbeitstag/
END:VEVENT
BEGIN:VEVENT
DTSTART;TZID=Europe/Berlin:20151011T080000
DTEND;TZID=Europe/Berlin:20151011T170000
DTSTAMP:20260424T122520
CREATED:20151005T102418Z
LAST-MODIFIED:20151005T102418Z
UID:269-1444550400-1444582800@rumpelhausen.de
SUMMARY:belegt (Geburtstag)
DESCRIPTION:
URL:https://rumpelhausen.de/event/belegt-geburtstag-7/
END:VEVENT
BEGIN:VEVENT
DTSTART;TZID=Europe/Berlin:20151017T080000
DTEND;TZID=Europe/Berlin:20151017T170000
DTSTAMP:20260424T122520
CREATED:20150920T192813Z
LAST-MODIFIED:20150920T192813Z
UID:252-1445068800-1445101200@rumpelhausen.de
SUMMARY:belegt (Geburtstag)
DESCRIPTION:
URL:https://rumpelhausen.de/event/belegt-geburtstag-6/
END:VEVENT
BEGIN:VEVENT
DTSTART;TZID=Europe/Berlin:20151024T080000
DTEND;TZID=Europe/Berlin:20151024T170000
DTSTAMP:20260424T122520
CREATED:20150920T192019Z
LAST-MODIFIED:20150920T192135Z
UID:249-1445673600-1445706000@rumpelhausen.de
SUMMARY:belegt (Geburtstag)
DESCRIPTION:
URL:https://rumpelhausen.de/event/belegt-geburtstag-4/
END:VEVENT
BEGIN:VEVENT
DTSTART;TZID=Europe/Berlin:20151031T080000
DTEND;TZID=Europe/Berlin:20151031T170000
DTSTAMP:20260424T122520
CREATED:20150920T193159Z
LAST-MODIFIED:20150924T061738Z
UID:254-1446278400-1446310800@rumpelhausen.de
SUMMARY:Vereinssamstag - gem. Arbeitstag
DESCRIPTION:Auch diesen Samstag wollen wir mit euch nutzen\,\num vor der Winterpause den Platz zu pflegen und\nkreativ zu werden! Natürlich mit abschließendem\nGrillen!
URL:https://rumpelhausen.de/event/vereinssamstag-2/
END:VEVENT
BEGIN:VEVENT
DTSTART;TZID=Europe/Berlin:20151031T093000
DTEND;TZID=Europe/Berlin:20151031T170000
DTSTAMP:20260424T122520
CREATED:20150924T061512Z
LAST-MODIFIED:20150924T061512Z
UID:258-1446283800-1446310800@rumpelhausen.de
SUMMARY:Gemeinsamer Arbeitstag
DESCRIPTION:Vor der Winterpause möchten wir auch diesen Samstag nutzen\,\num noch einmal mit euch das Laub zu rechen\, Arbeiten\nzu erledigen und natürlich zusammen zu Grillen!
URL:https://rumpelhausen.de/event/gemeinsamer-arbeitstag-2/
END:VEVENT
END:VCALENDAR