BEGIN:VCALENDAR
VERSION:2.0
PRODID:-// - ECPv6.15.20//NONSGML v1.0//EN
CALSCALE:GREGORIAN
METHOD:PUBLISH
X-ORIGINAL-URL:https://rumpelhausen.de
X-WR-CALDESC:Veranstaltungen für 
REFRESH-INTERVAL;VALUE=DURATION:PT1H
X-Robots-Tag:noindex
X-PUBLISHED-TTL:PT1H
BEGIN:VTIMEZONE
TZID:Europe/Berlin
BEGIN:DAYLIGHT
TZOFFSETFROM:+0100
TZOFFSETTO:+0200
TZNAME:CEST
DTSTART:20140330T010000
END:DAYLIGHT
BEGIN:STANDARD
TZOFFSETFROM:+0200
TZOFFSETTO:+0100
TZNAME:CET
DTSTART:20141026T010000
END:STANDARD
BEGIN:DAYLIGHT
TZOFFSETFROM:+0100
TZOFFSETTO:+0200
TZNAME:CEST
DTSTART:20150329T010000
END:DAYLIGHT
BEGIN:STANDARD
TZOFFSETFROM:+0200
TZOFFSETTO:+0100
TZNAME:CET
DTSTART:20151025T010000
END:STANDARD
BEGIN:DAYLIGHT
TZOFFSETFROM:+0100
TZOFFSETTO:+0200
TZNAME:CEST
DTSTART:20160327T010000
END:DAYLIGHT
BEGIN:STANDARD
TZOFFSETFROM:+0200
TZOFFSETTO:+0100
TZNAME:CET
DTSTART:20161030T010000
END:STANDARD
END:VTIMEZONE
BEGIN:VEVENT
DTSTART;VALUE=DATE:20150613
DTEND;VALUE=DATE:20150614
DTSTAMP:20260424T195022
CREATED:20150428T200438Z
LAST-MODIFIED:20150428T200438Z
UID:190-1434153600-1434239999@rumpelhausen.de
SUMMARY:Belegt
DESCRIPTION:
URL:https://rumpelhausen.de/event/belegt-2/
END:VEVENT
BEGIN:VEVENT
DTSTART;VALUE=DATE:20150614
DTEND;VALUE=DATE:20150615
DTSTAMP:20260424T195022
CREATED:20150428T200459Z
LAST-MODIFIED:20150428T200459Z
UID:191-1434240000-1434326399@rumpelhausen.de
SUMMARY:Belegt
DESCRIPTION:
URL:https://rumpelhausen.de/event/belegt-3/
END:VEVENT
BEGIN:VEVENT
DTSTART;VALUE=DATE:20150620
DTEND;VALUE=DATE:20150621
DTSTAMP:20260424T195022
CREATED:20150428T200655Z
LAST-MODIFIED:20150428T200655Z
UID:192-1434758400-1434844799@rumpelhausen.de
SUMMARY:Belegt
DESCRIPTION:
URL:https://rumpelhausen.de/event/belegt-4/
END:VEVENT
BEGIN:VEVENT
DTSTART;VALUE=DATE:20150621
DTEND;VALUE=DATE:20150622
DTSTAMP:20260424T195022
CREATED:20150428T200713Z
LAST-MODIFIED:20150428T200713Z
UID:193-1434844800-1434931199@rumpelhausen.de
SUMMARY:Belegt
DESCRIPTION:
URL:https://rumpelhausen.de/event/belegt-5/
END:VEVENT
BEGIN:VEVENT
DTSTART;TZID=Europe/Berlin:20150627T140000
DTEND;TZID=Europe/Berlin:20150627T180000
DTSTAMP:20260424T195022
CREATED:20150425T171004Z
LAST-MODIFIED:20150428T200206Z
UID:185-1435413600-1435428000@rumpelhausen.de
SUMMARY:Sommerfest
DESCRIPTION:
URL:https://rumpelhausen.de/event/sommerfest/
ATTACH;FMTTYPE=image/jpeg:https://rumpelhausen.de/wp-content/uploads/2015/04/DSC_0917.jpg
END:VEVENT
END:VCALENDAR